BEGIN:VCALENDAR
VERSION:2.0
PRODID:-//NCRAAO.org - ECPv5.9.0//NONSGML v1.0//EN
CALSCALE:GREGORIAN
METHOD:PUBLISH
X-WR-CALNAME:NCRAAO.org
X-ORIGINAL-URL:http://ncraao.org
X-WR-CALDESC:Events for NCRAAO.org
BEGIN:VTIMEZONE
TZID:America/Chicago
BEGIN:DAYLIGHT
TZOFFSETFROM:-0600
TZOFFSETTO:-0500
TZNAME:CDT
DTSTART:20240310T080000
END:DAYLIGHT
BEGIN:STANDARD
TZOFFSETFROM:-0500
TZOFFSETTO:-0600
TZNAME:CST
DTSTART:20241103T070000
END:STANDARD
END:VTIMEZONE
BEGIN:VEVENT
DTSTART;VALUE=DATE:20240819
DTEND;VALUE=DATE:20240823
DTSTAMP:20260419T190440
CREATED:20201014T145232Z
LAST-MODIFIED:20240815T213020Z
UID:1686-1724025600-1724371199@ncraao.org
SUMMARY:2024 NCRAAO Conference
DESCRIPTION:President Robinson provides the following information about the 2024 conference. \n\n\n\nConference Information\n\n\nThe conference will be held August 19-22\, 2024\, at the\nYounes Conference Center North in Kearney\, Nebraska. (Street address: 707 W Talmadge Street\, Kearney\, NE 68845)\nKearney has a regional airport for those who wish to fly in.\n\n\nA summary of the educational sessions can be viewed here.\n\n\nMaps of the conference hotel\n\n\nA summary of all conference events can be viewed here.\n\n\n\n  \n\n\n\nRegistration Information\n\n\nRegistration for the conference is no longer available.\nPlease get in touch with Michelle Robinson with any questions. Phone number (308) 762-6100 or email at assessor@boxbuttecountyne.gov \n\n\nVendors can register here.\n\n\nThe Golf Registration closed. Registrations are no longer being accepted.\nThis was the registration link. \n\n\n\n  \n\n\n\nHotel Information\n\n\nThe hotel room blocks are at The Crowne Plaza Hotel and the Hampton Inn.\nThe Crowne Plaza Hotel will be the primary host hotel\, the room rate will be $149.95 per night.\nThe Crown Plaza Hotel phone number is (308) 238-7000.\n\n\nThe other room block is at the Hampton Inn ($144.95).\nThe Hampton Inn phone number is (308) 234-3400.\n\n\n\n\nIf you call to make reservations\, please mention that you are making a reservation for the\nNCRAAO 2024 Conference. They should be able to set up direct billing upon request if you so choose.\n\n\n\n\n\n  \n\n\n\nPre-conference Events\n\n\nPre-conference events will include a choice of golf at Meadowlark Hills or bowling and other activities at the Big Apple Fun Center.\n\n\nA tour experience at the Archway Monument spans I-80\, and includes some interesting historical information about Nebraska\, the Platte River Valley\, and the settlement of the West. \n\n\n\n  \n\n\n\nAdditional Activities in Kearney\n\n\nFor those who enjoy museums\, Kearney offers many\, such as the\nNebraska Firefighter Museum\,\nMuseum of Nebraska Art (MONA)\,\nTrails & Rails Museum\,\nGW Frank Museum\, and the\nClassic Car Collection Museum.\n\n\nThe Kearney area offers whitewater rafting and a walking path along Yanney Park that leads through the hotel campus area.\n\n\nOther local attractions include the Children’s Natural History Museum\,\na semi-pro hockey arena\,\nand Raceway Park.
URL:http://ncraao.org/event/2024-ncraao-conference/
LOCATION:Younes Conference Center\, 707 W Talmadge Street\, Kearney\, NE\, 68845\, United States
CATEGORIES:Board Meetings,Conference
ORGANIZER;CN="Michelle%20Robinson":MAILTO:assessor@boxbuttecountyne.gov
END:VEVENT
END:VCALENDAR